BEGIN:VCALENDAR
VERSION:2.0
CALSCALE:GREGORIAN
METHOD:PUBLISH
PRODID://WFOA//517348
BEGIN:VEVENT
DTSTAMP:20260425T070402
VTIMEZONE:America/New_York
DTSTART:20260609T130000Z
DTEND:20260609T150000Z
UID:517348
SUMMARY:Webinar: Beginning Excel
LOCATION:
DESCRIPTION:Webinar: Beginning Excel\n\n06/09/26 09:00 AM EST\n - 06/09/26 11:00 AM EST\Description:\nIdentifying fraud is just the tip of the iceberg – often what happens next determines whether an organization resolves the issue efficiently or creates new risks in the process.  We’ll take a look at how to develop a clear, complete, and mutual understanding of the actions needed to respond once fraud surfaces, without relying on improvised decision-making or institutional memory.  The session will first use a real-world scenario to identify “what not to do” moments and then delve into practical steps an organization can take to determine how and when to respond to fraud events, including hands on experience developing and scoring risks. 
X-ALT-DESC;FMTTYPE=text/html:Webinar: Beginning Excel<br /><br />06/09/26 09:00 AM EST - 06/09/26 11:00 AM EST<br />Description:<br />Identifying fraud is just the tip of the iceberg &ndash; often what happens next determines whether an organization resolves the issue efficiently or creates new risks in the process. &nbsp;We&rsquo;ll take a look at how to develop a clear, complete, and mutual understanding of the actions needed to respond once fraud surfaces, without relying on improvised decision-making or institutional memory. &nbsp;The session will first use a real-world scenario to identify &ldquo;what not to do&rdquo; moments and then delve into practical steps an organization can take to determine how and when to respond to fraud events, including hands on experience developing and scoring risks.&nbsp;
PRIORITY:3
TRANSP:TRANSPARENT
BEGIN:VALARM
TRIGGER:-PT5M
ACTION:DISPLAY
DESCRIPTION:Reminder
END:VALARM
END:VEVENT
END:VCALENDAR
