BEGIN:VCALENDAR
VERSION:2.0
CALSCALE:GREGORIAN
METHOD:PUBLISH
PRODID://WFOA//517347
BEGIN:VEVENT
DTSTAMP:20260425T065503
VTIMEZONE:America/Los_Angeles
DTSTART:20260512T160000Z
DTEND:20260512T180000Z
UID:517347
SUMMARY:Webinar: Intermediate/Advanced Excel: Date, Time, and Financial Functions 
LOCATION:
DESCRIPTION:Webinar: Intermediate/Advanced Excel: Date, Time, and Financial Functions \n\n05/12/26 09:00 AM PST\n - 05/12/26 11:00 AM PST\Description:\nTake control of time-sensitive and financial calculations. Explore functions like DATEDIF, WORKDAY, and EOMONTH for scheduling, plus PMT and FV for loan and investment planning. You’ll then be able to casually mention that you know this at the next family dinner to prove your in-laws wrong.\n \n Office 365 is recommended for this course.
X-ALT-DESC;FMTTYPE=text/html:Webinar: Intermediate/Advanced Excel: Date, Time, and Financial Functions <br /><br />05/12/26 09:00 AM PST - 05/12/26 11:00 AM PST<br />Description:<br />Take control of time-sensitive and financial calculations. Explore functions like DATEDIF, WORKDAY, and EOMONTH for scheduling, plus PMT and FV for loan and investment planning. You&rsquo;ll then be able to casually mention that you know this at the next family dinner to prove your in-laws wrong.<br />
&nbsp;<br />
&nbsp;Office 365 is recommended for this course.
PRIORITY:3
TRANSP:TRANSPARENT
BEGIN:VALARM
TRIGGER:-PT5M
ACTION:DISPLAY
DESCRIPTION:Reminder
END:VALARM
END:VEVENT
END:VCALENDAR
