BEGIN:VCALENDAR
VERSION:2.0
CALSCALE:GREGORIAN
METHOD:PUBLISH
PRODID://WFOA//517342
BEGIN:VEVENT
DTSTAMP:20260425T065603
VTIMEZONE:America/Los_Angeles
DTSTART:20260505T150000Z
DTEND:20260505T220000Z
UID:517342
SUMMARY:Federal Awards Requirements (Includes Grants) Webinar
LOCATION:
DESCRIPTION:Federal Awards Requirements (Includes Grants) Webinar\n\n05/05/26 08:00 AM PST\n - 05/05/26 03:00 PM PST\Description:\nThis Class covers the essentials of the federal requirements for managing, spending and auditing federal awards. The authoritative set of requirements, found in Part 200 of Title 2 of the U.S. Code of Federal Regulations, is called the Uniform Administrative Requirements, Cost Principles, and Audit Requirements for Federal Awards – or more commonly, the “Uniform Guidance.”\n\nThe objectives of this class are for participants to get an overview of the most important and common compliance requirements and learn where to keep reading about the areas most applicable to them. In this way, local governments can better understand the Uniform Guidance, which will help them design effective internal controls to meet these requirements and better manage their federal awards.\n\nTopics covered:\n• Introduction to the Uniform Guidance (including high-level information on revisions)\n• Understanding the Uniform Guidance Cost Principles\n• Overview of the common administrative requirements\n• Essentials for implementing internal controls\n• Preparing the Schedule of Expenditures of Federal Awards\n• Details about the federal single audit\n• Available resources
X-ALT-DESC;FMTTYPE=text/html:Federal Awards Requirements (Includes Grants) Webinar<br /><br />05/05/26 08:00 AM PST - 05/05/26 03:00 PM PST<br />Description:<br />This Class covers the essentials of the federal requirements for managing, spending and auditing federal awards. The authoritative set of requirements, found in Part 200 of Title 2 of the U.S. Code of Federal Regulations, is called the Uniform Administrative Requirements, Cost Principles, and Audit Requirements for Federal Awards &ndash; or more commonly, the &ldquo;Uniform Guidance.&rdquo;<br />
<br />
The objectives of this class are for participants to get an overview of the most important and common compliance requirements and learn where to keep reading about the areas most applicable to them. In this way, local governments can better understand the Uniform Guidance, which will help them design effective internal controls to meet these requirements and better manage their federal awards.<br />
<br />
Topics covered:<br />
&bull; Introduction to the Uniform Guidance (including high-level information on revisions)<br />
&bull; Understanding the Uniform Guidance Cost Principles<br />
&bull; Overview of the common administrative requirements<br />
&bull; Essentials for implementing internal controls<br />
&bull; Preparing the Schedule of Expenditures of Federal Awards<br />
&bull; Details about the federal single audit<br />
&bull; Available resources
PRIORITY:3
TRANSP:TRANSPARENT
BEGIN:VALARM
TRIGGER:-PT5M
ACTION:DISPLAY
DESCRIPTION:Reminder
END:VALARM
END:VEVENT
END:VCALENDAR
